BEGIN:VCALENDAR
VERSION:2.0
PRODID:-//CGDE - ECPv6.15.0.1//NONSGML v1.0//EN
CALSCALE:GREGORIAN
METHOD:PUBLISH
X-WR-CALNAME:CGDE
X-ORIGINAL-URL:https://cgde-home.de
X-WR-CALDESC:Events for CGDE
REFRESH-INTERVAL;VALUE=DURATION:PT1H
X-Robots-Tag:noindex
X-PUBLISHED-TTL:PT1H
BEGIN:VTIMEZONE
TZID:Europe/Berlin
BEGIN:DAYLIGHT
TZOFFSETFROM:+0100
TZOFFSETTO:+0200
TZNAME:CEST
DTSTART:20260329T010000
END:DAYLIGHT
BEGIN:STANDARD
TZOFFSETFROM:+0200
TZOFFSETTO:+0100
TZNAME:CET
DTSTART:20261025T010000
END:STANDARD
END:VTIMEZONE
BEGIN:VEVENT
DTSTART;TZID=Europe/Berlin:20260212T090000
DTEND;TZID=Europe/Berlin:20260212T170000
DTSTAMP:20260422T185030
CREATED:20260108T095014Z
LAST-MODIFIED:20260205T090428Z
UID:990000695-1770886800-1770915600@cgde-home.de
SUMMARY:Environmental Economics
DESCRIPTION:Special Course\nEnvironmental Economics \nLecturer\nProfessor Dr Till Requate (Kiel University) \nThe registration deadline is 30 January 2026 (capacity is limited).\nTo register\, please send an e-mail to niedetzky@wifa.uni-leipzig.de  // subject: Registration Environmental Economics. \nAll lectures will take place in the ECO-N commons room\, Hainstr. 11\, Leipzig. \nShort description: This course covers advanced topics in environmental economics. We begin with a discussion of prominent environmental policy instruments\, such as command and control\, emissions taxes\, and tradable emissions permits. Then\, we discuss the implications for product markets\, imperfect competition\, and the treatment of international environmental issues\, particularly climate policy. The course also covers pre-existing distortions and long-term investment incentives. Finally\, we introduce dynamic problems\, particularly the accumulation of pollutants. \nParticipation requirements: \nParticipants are expected to have a strong grasp of microeconomics\, particularly utility-\, profit-\, and welfare-maximization\, using the Lagrangian method. They should also be able to solve comparative static problems using the implicit function theorem. \nLecture 1: Markets\, Welfare\, the Problem of Externalities\, and a survey of most the important pollutants (based on Chapters 1 and 2 in Phaneuf & Requate) \nTime: Monday\, February 9\, 10 – 12 \nLecture 2: The Workhorse Model of Environmental Economics and Environmental Policy Instruments (based on Chapters 3 and 8 in Phaneuf & Requate) \nTime: Monday\, February 9\, 14 – 16 \nQ&A session (optional): Monday\, February 9\, 16 – 17 \nLecture 3: Environmental Policy under Imperfect information (based on Chapter 4 in Phaneuf & Requate) \nTime: Tuesday\, February 10\, 10 – 12 \nLecture 4: Repercussions on Output Markets and market power (based on Chapter 5 and 6 in Phaneuf & Requate) \nTime: Tuesday\, February 10\, 14 – 16 \nQ&A session (optional): Tuesday\, February 10\, 16 – 17 \nLecture 5: Environmental Policy with pre-existing distortions (based on Chapter 7 in Phaneuf & Requate) \nTime: Wednesday\, February 11\,  10 – 12 \nLecture 6: Environmental Policy and Innovation (based on Chapter 11 in Phaneuf & Requate) \nTime: Wednesday\, February 11\,  14 – 16 \nQ&A session (optional): Wednesday\, February 11\, 16 – 17 \nLecture 7: International Environmental Problems (based on Chapter 12 in Phaneuf & Requate) \nTime: Thursday\, February 12\, 10 – 12 \nLecture 8: Miscellaneous topics such as Environmental Policy under Pre-distortions (based on Chapter 7)\, Ambient Pollution (based on Chapter 9)\, Environmental Liability Rules (based on Chapter 10 in Phaneuf & Requate) \nTime: Thursday\, February 12\, 14 – 16 \nQ&A session (optional): Thursday\, February 15\, 16 – 17 \nLecture 9: Dynamic problems\, notably accumulating pollutants (based on Chapter 13 in Phaneuf & Requate) \nTime: Friday\, February 13\, 10 – 12 \n  \nLiterature:  \nPhaneuf\, D. and Requate\, T.: A Course Environmental Economics: Theory\, Policy and Practice\, Cambridge University Press 2017 \nCharles Kolstad Environmental Economics\, Oxford University Press\, 2010 \nRoger Perlman\, Yue Ma\, James McGilvray\, and Michael Common:  Natural Resource and Environmental Economics\, Pearson Education\, 3rd Edition\, 1996 \nChamp\, Patricia A.\, Boyle\, Kevin J.\, Brown\, Thomas C. (Eds.) : A Primer on Nonmarket Valuation\, Springer\, 2003 \nEndres\, Alfred: Environmental Economics – Theory and Policy\, Cambridge and New York (Cambridge University Press)\, 2011 \n 
URL:https://cgde-home.de/event/environmental-economics-2/2026-02-12/
LOCATION:Leipzig University\, ECO-N Seminar Room\, Hainstraße 11\, 04109 Leipzig\, Leipzig University\, ECO-N Seminar Room\, Hainstraße 11\, 04109 Leipzig\, Leipzig\, 04109\, Germany
CATEGORIES:Special Courses
ATTACH;FMTTYPE=image/svg+xml:https://cgde-home.de/wp-content/uploads/2025/02/special_courses.svg
END:VEVENT
END:VCALENDAR